BEGIN:VCALENDAR
VERSION:2.0
PRODID:-//Lobpreishaus Dresden - ECPv6.5.1.4//NONSGML v1.0//EN
CALSCALE:GREGORIAN
METHOD:PUBLISH
X-ORIGINAL-URL:https://lobpreishaus.org
X-WR-CALDESC:Veranstaltungen für Lobpreishaus Dresden
REFRESH-INTERVAL;VALUE=DURATION:PT1H
X-Robots-Tag:noindex
X-PUBLISHED-TTL:PT1H
BEGIN:VTIMEZONE
TZID:Europe/Berlin
BEGIN:DAYLIGHT
TZOFFSETFROM:+0100
TZOFFSETTO:+0200
TZNAME:CEST
DTSTART:20220327T010000
END:DAYLIGHT
BEGIN:STANDARD
TZOFFSETFROM:+0200
TZOFFSETTO:+0100
TZNAME:CET
DTSTART:20221030T010000
END:STANDARD
BEGIN:DAYLIGHT
TZOFFSETFROM:+0100
TZOFFSETTO:+0200
TZNAME:CEST
DTSTART:20230326T010000
END:DAYLIGHT
BEGIN:STANDARD
TZOFFSETFROM:+0200
TZOFFSETTO:+0100
TZNAME:CET
DTSTART:20231029T010000
END:STANDARD
BEGIN:DAYLIGHT
TZOFFSETFROM:+0100
TZOFFSETTO:+0200
TZNAME:CEST
DTSTART:20240331T010000
END:DAYLIGHT
BEGIN:STANDARD
TZOFFSETFROM:+0200
TZOFFSETTO:+0100
TZNAME:CET
DTSTART:20241027T010000
END:STANDARD
END:VTIMEZONE
BEGIN:VEVENT
DTSTART;TZID=Europe/Berlin:20240220T193000
DTEND;TZID=Europe/Berlin:20240220T213000
DTSTAMP:20260421T102447
CREATED:20231201T105757Z
LAST-MODIFIED:20231201T105757Z
UID:10000040-1708457400-1708464600@lobpreishaus.org
SUMMARY:Lobpreis- und Gebetsabend
DESCRIPTION:An jedem Dienstagabend gibt’s Lob & Preis – unser Anbetungs- und Gebetsabend im Lobpreishaus. \nImmer am 1. Dienstag des Monats im Livestream. \nHier gelangst du zum Livestream: \nZum Live-Stream
URL:https://lobpreishaus.org/veranstaltung-3/lobpreis-und-gebetsabend-nur-livestream-2/2024-02-20/
LOCATION:Lobpreishaus Dresden\, Altreick 21\, Dresden\, Sachsen\, 01237\, Deutschland
CATEGORIES:Livestream,Wöchentlich
ATTACH;FMTTYPE=image/png:https://lobpreishaus.org/wp-content/uploads/2020/03/Website-Slideshow.png
ORGANIZER;CN="Lobpreishaus Dresden e.V.":MAILTO:kontakt@lobpreishaus.org
END:VEVENT
BEGIN:VEVENT
DTSTART;TZID=Europe/Berlin:20240213T193000
DTEND;TZID=Europe/Berlin:20240213T213000
DTSTAMP:20260421T102447
CREATED:20231201T105757Z
LAST-MODIFIED:20231201T105757Z
UID:10000039-1707852600-1707859800@lobpreishaus.org
SUMMARY:Lobpreis- und Gebetsabend
DESCRIPTION:An jedem Dienstagabend gibt’s Lob & Preis – unser Anbetungs- und Gebetsabend im Lobpreishaus. \nImmer am 1. Dienstag des Monats im Livestream. \nHier gelangst du zum Livestream: \nZum Live-Stream
URL:https://lobpreishaus.org/veranstaltung-3/lobpreis-und-gebetsabend-nur-livestream-2/2024-02-13/
LOCATION:Lobpreishaus Dresden\, Altreick 21\, Dresden\, Sachsen\, 01237\, Deutschland
CATEGORIES:Livestream,Wöchentlich
ATTACH;FMTTYPE=image/png:https://lobpreishaus.org/wp-content/uploads/2020/03/Website-Slideshow.png
ORGANIZER;CN="Lobpreishaus Dresden e.V.":MAILTO:kontakt@lobpreishaus.org
END:VEVENT
BEGIN:VEVENT
DTSTART;TZID=Europe/Berlin:20240206T193000
DTEND;TZID=Europe/Berlin:20240206T213000
DTSTAMP:20260421T102447
CREATED:20231201T105757Z
LAST-MODIFIED:20231201T105757Z
UID:10000038-1707247800-1707255000@lobpreishaus.org
SUMMARY:Lobpreis- und Gebetsabend
DESCRIPTION:An jedem Dienstagabend gibt’s Lob & Preis – unser Anbetungs- und Gebetsabend im Lobpreishaus. \nImmer am 1. Dienstag des Monats im Livestream. \nHier gelangst du zum Livestream: \nZum Live-Stream
URL:https://lobpreishaus.org/veranstaltung-3/lobpreis-und-gebetsabend-nur-livestream-2/2024-02-06/
LOCATION:Lobpreishaus Dresden\, Altreick 21\, Dresden\, Sachsen\, 01237\, Deutschland
CATEGORIES:Livestream,Wöchentlich
ATTACH;FMTTYPE=image/png:https://lobpreishaus.org/wp-content/uploads/2020/03/Website-Slideshow.png
ORGANIZER;CN="Lobpreishaus Dresden e.V.":MAILTO:kontakt@lobpreishaus.org
END:VEVENT
BEGIN:VEVENT
DTSTART;TZID=Europe/Berlin:20240130T193000
DTEND;TZID=Europe/Berlin:20240130T213000
DTSTAMP:20260421T102447
CREATED:20231201T105757Z
LAST-MODIFIED:20231201T105757Z
UID:10000037-1706643000-1706650200@lobpreishaus.org
SUMMARY:Lobpreis- und Gebetsabend
DESCRIPTION:An jedem Dienstagabend gibt’s Lob & Preis – unser Anbetungs- und Gebetsabend im Lobpreishaus. \nImmer am 1. Dienstag des Monats im Livestream. \nHier gelangst du zum Livestream: \nZum Live-Stream
URL:https://lobpreishaus.org/veranstaltung-3/lobpreis-und-gebetsabend-nur-livestream-2/2024-01-30/
LOCATION:Lobpreishaus Dresden\, Altreick 21\, Dresden\, Sachsen\, 01237\, Deutschland
CATEGORIES:Livestream,Wöchentlich
ATTACH;FMTTYPE=image/png:https://lobpreishaus.org/wp-content/uploads/2020/03/Website-Slideshow.png
ORGANIZER;CN="Lobpreishaus Dresden e.V.":MAILTO:kontakt@lobpreishaus.org
END:VEVENT
BEGIN:VEVENT
DTSTART;TZID=Europe/Berlin:20240123T193000
DTEND;TZID=Europe/Berlin:20240123T213000
DTSTAMP:20260421T102447
CREATED:20231201T105757Z
LAST-MODIFIED:20231201T105757Z
UID:10000036-1706038200-1706045400@lobpreishaus.org
SUMMARY:Lobpreis- und Gebetsabend
DESCRIPTION:An jedem Dienstagabend gibt’s Lob & Preis – unser Anbetungs- und Gebetsabend im Lobpreishaus. \nImmer am 1. Dienstag des Monats im Livestream. \nHier gelangst du zum Livestream: \nZum Live-Stream
URL:https://lobpreishaus.org/veranstaltung-3/lobpreis-und-gebetsabend-nur-livestream-2/2024-01-23/
LOCATION:Lobpreishaus Dresden\, Altreick 21\, Dresden\, Sachsen\, 01237\, Deutschland
CATEGORIES:Livestream,Wöchentlich
ATTACH;FMTTYPE=image/png:https://lobpreishaus.org/wp-content/uploads/2020/03/Website-Slideshow.png
ORGANIZER;CN="Lobpreishaus Dresden e.V.":MAILTO:kontakt@lobpreishaus.org
END:VEVENT
BEGIN:VEVENT
DTSTART;TZID=Europe/Berlin:20240116T193000
DTEND;TZID=Europe/Berlin:20240116T213000
DTSTAMP:20260421T102447
CREATED:20231201T105757Z
LAST-MODIFIED:20231201T105757Z
UID:10000035-1705433400-1705440600@lobpreishaus.org
SUMMARY:Lobpreis- und Gebetsabend
DESCRIPTION:An jedem Dienstagabend gibt’s Lob & Preis – unser Anbetungs- und Gebetsabend im Lobpreishaus. \nImmer am 1. Dienstag des Monats im Livestream. \nHier gelangst du zum Livestream: \nZum Live-Stream
URL:https://lobpreishaus.org/veranstaltung-3/lobpreis-und-gebetsabend-nur-livestream-2/2024-01-16/
LOCATION:Lobpreishaus Dresden\, Altreick 21\, Dresden\, Sachsen\, 01237\, Deutschland
CATEGORIES:Livestream,Wöchentlich
ATTACH;FMTTYPE=image/png:https://lobpreishaus.org/wp-content/uploads/2020/03/Website-Slideshow.png
ORGANIZER;CN="Lobpreishaus Dresden e.V.":MAILTO:kontakt@lobpreishaus.org
END:VEVENT
BEGIN:VEVENT
DTSTART;TZID=Europe/Berlin:20240109T193000
DTEND;TZID=Europe/Berlin:20240109T213000
DTSTAMP:20260421T102447
CREATED:20231201T105757Z
LAST-MODIFIED:20231201T105757Z
UID:10000034-1704828600-1704835800@lobpreishaus.org
SUMMARY:Lobpreis- und Gebetsabend
DESCRIPTION:An jedem Dienstagabend gibt’s Lob & Preis – unser Anbetungs- und Gebetsabend im Lobpreishaus. \nImmer am 1. Dienstag des Monats im Livestream. \nHier gelangst du zum Livestream: \nZum Live-Stream
URL:https://lobpreishaus.org/veranstaltung-3/lobpreis-und-gebetsabend-nur-livestream-2/2024-01-09/
LOCATION:Lobpreishaus Dresden\, Altreick 21\, Dresden\, Sachsen\, 01237\, Deutschland
CATEGORIES:Livestream,Wöchentlich
ATTACH;FMTTYPE=image/png:https://lobpreishaus.org/wp-content/uploads/2020/03/Website-Slideshow.png
ORGANIZER;CN="Lobpreishaus Dresden e.V.":MAILTO:kontakt@lobpreishaus.org
END:VEVENT
BEGIN:VEVENT
DTSTART;TZID=Europe/Berlin:20240102T193000
DTEND;TZID=Europe/Berlin:20240102T213000
DTSTAMP:20260421T102447
CREATED:20231215T221609Z
LAST-MODIFIED:20231215T221725Z
UID:10000115-1704223800-1704231000@lobpreishaus.org
SUMMARY:LOB & PREIS - Thema "FairAntwortung"
DESCRIPTION:
URL:https://lobpreishaus.org/veranstaltung-3/lob-preis-thema-fairantwortung/
LOCATION:Lobpreishaus Dresden\, Altreick 21\, Dresden\, Sachsen\, 01237\, Deutschland
ATTACH;FMTTYPE=image/jpeg:https://lobpreishaus.org/wp-content/uploads/2023/12/photo1702677354.jpeg
ORGANIZER;CN="Lobpreishaus Dresden e.V.":MAILTO:kontakt@lobpreishaus.org
END:VEVENT
BEGIN:VEVENT
DTSTART;TZID=Europe/Berlin:20231226T193000
DTEND;TZID=Europe/Berlin:20231226T213000
DTSTAMP:20260421T102447
CREATED:20231201T105757Z
LAST-MODIFIED:20231201T105757Z
UID:10000032-1703619000-1703626200@lobpreishaus.org
SUMMARY:Lobpreis- und Gebetsabend
DESCRIPTION:An jedem Dienstagabend gibt’s Lob & Preis – unser Anbetungs- und Gebetsabend im Lobpreishaus. \nImmer am 1. Dienstag des Monats im Livestream. \nHier gelangst du zum Livestream: \nZum Live-Stream
URL:https://lobpreishaus.org/veranstaltung-3/lobpreis-und-gebetsabend-nur-livestream-2/2023-12-26/
LOCATION:Lobpreishaus Dresden\, Altreick 21\, Dresden\, Sachsen\, 01237\, Deutschland
CATEGORIES:Livestream,Wöchentlich
ATTACH;FMTTYPE=image/png:https://lobpreishaus.org/wp-content/uploads/2020/03/Website-Slideshow.png
ORGANIZER;CN="Lobpreishaus Dresden e.V.":MAILTO:kontakt@lobpreishaus.org
END:VEVENT
BEGIN:VEVENT
DTSTART;TZID=Europe/Berlin:20231219T193000
DTEND;TZID=Europe/Berlin:20231219T213000
DTSTAMP:20260421T102447
CREATED:20231201T105757Z
LAST-MODIFIED:20231201T105757Z
UID:10000031-1703014200-1703021400@lobpreishaus.org
SUMMARY:Lobpreis- und Gebetsabend
DESCRIPTION:An jedem Dienstagabend gibt’s Lob & Preis – unser Anbetungs- und Gebetsabend im Lobpreishaus. \nImmer am 1. Dienstag des Monats im Livestream. \nHier gelangst du zum Livestream: \nZum Live-Stream
URL:https://lobpreishaus.org/veranstaltung-3/lobpreis-und-gebetsabend-nur-livestream-2/2023-12-19/
LOCATION:Lobpreishaus Dresden\, Altreick 21\, Dresden\, Sachsen\, 01237\, Deutschland
CATEGORIES:Livestream,Wöchentlich
ATTACH;FMTTYPE=image/png:https://lobpreishaus.org/wp-content/uploads/2020/03/Website-Slideshow.png
ORGANIZER;CN="Lobpreishaus Dresden e.V.":MAILTO:kontakt@lobpreishaus.org
END:VEVENT
BEGIN:VEVENT
DTSTART;TZID=Europe/Berlin:20231216T160000
DTEND;TZID=Europe/Berlin:20231216T190000
DTSTAMP:20260421T102447
CREATED:20231208T110342Z
LAST-MODIFIED:20231214T154747Z
UID:10000114-1702742400-1702753200@lobpreishaus.org
SUMMARY:Releaseparty
DESCRIPTION:Im Rahmen der Hofweihnacht werden wir den Release von unserem neuen Lied „Mein Gott ist Fülle“ feiern.\nEs gibt eine Askustik-live-performance\, Interviews mit Elli – die das Lied geschrieben hat und mit Matze – der das Musikvideo produziert hat.\nZeit für Gemeinschaft.\nHerzliche Einladung dazu.
URL:https://lobpreishaus.org/veranstaltung-3/releaseparty/
LOCATION:Lobpreishaus Dresden\, Altreick 21\, Dresden\, Sachsen\, 01237\, Deutschland
CATEGORIES:Feier
ATTACH;FMTTYPE=image/jpeg:https://lobpreishaus.org/wp-content/uploads/2023/12/YouTube-TB-Mein-Gott-ist-Fuelle.jpg
ORGANIZER;CN="Lobpreishaus Dresden e.V.":MAILTO:kontakt@lobpreishaus.org
END:VEVENT
BEGIN:VEVENT
DTSTART;TZID=Europe/Berlin:20231212T193000
DTEND;TZID=Europe/Berlin:20231212T213000
DTSTAMP:20260421T102447
CREATED:20231201T105757Z
LAST-MODIFIED:20231201T105757Z
UID:10000029-1702409400-1702416600@lobpreishaus.org
SUMMARY:Lobpreis- und Gebetsabend
DESCRIPTION:An jedem Dienstagabend gibt’s Lob & Preis – unser Anbetungs- und Gebetsabend im Lobpreishaus. \nImmer am 1. Dienstag des Monats im Livestream. \nHier gelangst du zum Livestream: \nZum Live-Stream
URL:https://lobpreishaus.org/veranstaltung-3/lobpreis-und-gebetsabend-nur-livestream-2/2023-12-12/
LOCATION:Lobpreishaus Dresden\, Altreick 21\, Dresden\, Sachsen\, 01237\, Deutschland
CATEGORIES:Livestream,Wöchentlich
ATTACH;FMTTYPE=image/png:https://lobpreishaus.org/wp-content/uploads/2020/03/Website-Slideshow.png
ORGANIZER;CN="Lobpreishaus Dresden e.V.":MAILTO:kontakt@lobpreishaus.org
END:VEVENT
BEGIN:VEVENT
DTSTART;TZID=Europe/Berlin:20231205T193000
DTEND;TZID=Europe/Berlin:20231205T213000
DTSTAMP:20260421T102447
CREATED:20231201T105646Z
LAST-MODIFIED:20231201T105646Z
UID:10000113-1701804600-1701811800@lobpreishaus.org
SUMMARY:Lob & Preis - "Himmelsgold & Demut"
DESCRIPTION:
URL:https://lobpreishaus.org/veranstaltung-3/lob-preis-himmelsgold-demut/
LOCATION:Lobpreishaus Dresden\, Altreick 21\, Dresden\, Sachsen\, 01237\, Deutschland
CATEGORIES:Livestream
ATTACH;FMTTYPE=image/jpeg:https://lobpreishaus.org/wp-content/uploads/2023/12/HDemut.jpg
ORGANIZER;CN="Lobpreishaus Dresden e.V.":MAILTO:kontakt@lobpreishaus.org
END:VEVENT
BEGIN:VEVENT
DTSTART;TZID=Europe/Berlin:20231128T193000
DTEND;TZID=Europe/Berlin:20231128T213000
DTSTAMP:20260421T102447
CREATED:20201016T125215Z
LAST-MODIFIED:20230913T090815Z
UID:10000028-1701199800-1701207000@lobpreishaus.org
SUMMARY:Lobpreis- und Gebetsabend
DESCRIPTION:An jedem Dienstagabend gibt’s Lob & Preis – unser Anbetungs- und Gebetsabend im Lobpreishaus. \nImmer am 1. Dienstag des Monats im Livestream. \nHier gelangst du zum Livestream: \nZum Live-Stream
URL:https://lobpreishaus.org/veranstaltung-3/lobpreis-und-gebetsabend-nur-livestream/2023-11-28/
LOCATION:Lobpreishaus Dresden\, Altreick 21\, Dresden\, Sachsen\, 01237\, Deutschland
CATEGORIES:Livestream,Wöchentlich
ATTACH;FMTTYPE=image/png:https://lobpreishaus.org/wp-content/uploads/2020/03/Website-Slideshow.png
ORGANIZER;CN="Lobpreishaus Dresden e.V.":MAILTO:kontakt@lobpreishaus.org
END:VEVENT
BEGIN:VEVENT
DTSTART;TZID=Europe/Berlin:20231121T193000
DTEND;TZID=Europe/Berlin:20231121T213000
DTSTAMP:20260421T102447
CREATED:20201016T125215Z
LAST-MODIFIED:20230913T090815Z
UID:10000027-1700595000-1700602200@lobpreishaus.org
SUMMARY:Lobpreis- und Gebetsabend
DESCRIPTION:An jedem Dienstagabend gibt’s Lob & Preis – unser Anbetungs- und Gebetsabend im Lobpreishaus. \nImmer am 1. Dienstag des Monats im Livestream. \nHier gelangst du zum Livestream: \nZum Live-Stream
URL:https://lobpreishaus.org/veranstaltung-3/lobpreis-und-gebetsabend-nur-livestream/2023-11-21/
LOCATION:Lobpreishaus Dresden\, Altreick 21\, Dresden\, Sachsen\, 01237\, Deutschland
CATEGORIES:Livestream,Wöchentlich
ATTACH;FMTTYPE=image/png:https://lobpreishaus.org/wp-content/uploads/2020/03/Website-Slideshow.png
ORGANIZER;CN="Lobpreishaus Dresden e.V.":MAILTO:kontakt@lobpreishaus.org
END:VEVENT
BEGIN:VEVENT
DTSTART;TZID=Europe/Berlin:20231121T180000
DTEND;TZID=Europe/Berlin:20231122T180000
DTSTAMP:20260421T102447
CREATED:20231116T154038Z
LAST-MODIFIED:20231121T103318Z
UID:10000112-1700589600-1700676000@lobpreishaus.org
SUMMARY:Buß- und Bettag 24h Gebet und Lobpreis
DESCRIPTION:18:00 Uhr \n22:00 Uhr \n23:00 Uhr \n00:00 Uhr \n01:00 Uhr \n03:00 Uhr \n05:00 Uhr \n07:00 Uhr \n08:00 Uhr \n09:00 Uhr \n11:00 Uhr \n12:00 Uhr \n13:00 Uhr \n14:00 Uhr \n15:00 Uhr \n16:00 Uhr \n17:00 Uhr \nLobpreishaus Band & Kunst mit Gott \nMaik Hirsch \nBettina Schur \nDaniel Menzel \nDaniel Wendt \nLobpreishaus WG \nUta Albani \nSalome Wendt \nJohannes Frész \nJockel-Pascale & Jasmin Taubert \nSalome mit Worhipsongs der O´Bros \nKontemplative Lobpreiszeit \nEleonore Arnstadt \nDebora Scharnowski \nManuela Bischof \nKinderlobpreis mit Salome \nLobpreishaus Band
URL:https://lobpreishaus.org/veranstaltung-3/24h-gebet-und-lobpreis/
LOCATION:Lobpreishaus Dresden\, Altreick 21\, Dresden\, Sachsen\, 01237\, Deutschland
ATTACH;FMTTYPE=image/jpeg:https://lobpreishaus.org/wp-content/uploads/2023/11/IMG_1699.jpg
ORGANIZER;CN="Lobpreishaus Dresden e.V.":MAILTO:kontakt@lobpreishaus.org
END:VEVENT
BEGIN:VEVENT
DTSTART;TZID=Europe/Berlin:20231114T193000
DTEND;TZID=Europe/Berlin:20231114T213000
DTSTAMP:20260421T102447
CREATED:20201016T125215Z
LAST-MODIFIED:20230913T090815Z
UID:10000026-1699990200-1699997400@lobpreishaus.org
SUMMARY:Lobpreis- und Gebetsabend
DESCRIPTION:An jedem Dienstagabend gibt’s Lob & Preis – unser Anbetungs- und Gebetsabend im Lobpreishaus. \nImmer am 1. Dienstag des Monats im Livestream. \nHier gelangst du zum Livestream: \nZum Live-Stream
URL:https://lobpreishaus.org/veranstaltung-3/lobpreis-und-gebetsabend-nur-livestream/2023-11-14/
LOCATION:Lobpreishaus Dresden\, Altreick 21\, Dresden\, Sachsen\, 01237\, Deutschland
CATEGORIES:Livestream,Wöchentlich
ATTACH;FMTTYPE=image/png:https://lobpreishaus.org/wp-content/uploads/2020/03/Website-Slideshow.png
ORGANIZER;CN="Lobpreishaus Dresden e.V.":MAILTO:kontakt@lobpreishaus.org
END:VEVENT
BEGIN:VEVENT
DTSTART;TZID=Europe/Berlin:20231107T193000
DTEND;TZID=Europe/Berlin:20231107T213000
DTSTAMP:20260421T102447
CREATED:20231101T140537Z
LAST-MODIFIED:20231102T063054Z
UID:10000111-1699385400-1699392600@lobpreishaus.org
SUMMARY:Leben mit Vision
DESCRIPTION:Es ist uns eine Ehre\, am 7. November Ben aus Leipzig zu unserem Dienstag Abend als Gast begrüßen zu dürfen. \nBen ist ein leidenschaftlicher Jesus Nachfolger.\nEr liebt es auf der Straße Menschen von Jesus zu erzählen und für Kranke zu beten.\nBen wohnt in Leipzig mit seiner Frau Miriam und dient dort im Pavilion der Hoffnung und leitet die Healingrooms Leipzig.\nEr wird im November direkt aus Amerika zu uns kommen. Dort besucht er die Bethel church zum Training und Ermutigung.\nDu darfst Dich also auf einen feurigen Abend freuen\, den Du nicht verpassen solltest.\nBen wird uns mit rein nehmen aus seinem Alltag mit Jesus zu erzählen und uns begeistern ein Leben mit Vision zu führen.\nBen ist ein wirklich gesalbter Mann\, der jeden ermutigen und segnen wird. \nHerzliche Einladung live vor Ort oder zum Livestream dabei zu sein.
URL:https://lobpreishaus.org/veranstaltung-3/leben-mit-vision/
LOCATION:Lobpreishaus Dresden\, Altreick 21\, Dresden\, Sachsen\, 01237\, Deutschland
CATEGORIES:Special Lobpreisveranstaltung
ATTACH;FMTTYPE=image/jpeg:https://lobpreishaus.org/wp-content/uploads/2023/11/msg-600337343-84323.jpg
ORGANIZER;CN="Lobpreishaus Dresden e.V.":MAILTO:kontakt@lobpreishaus.org
END:VEVENT
BEGIN:VEVENT
DTSTART;TZID=Europe/Berlin:20231107T193000
DTEND;TZID=Europe/Berlin:20231107T213000
DTSTAMP:20260421T102447
CREATED:20201016T125215Z
LAST-MODIFIED:20230913T090815Z
UID:10000025-1699385400-1699392600@lobpreishaus.org
SUMMARY:Lobpreis- und Gebetsabend
DESCRIPTION:An jedem Dienstagabend gibt’s Lob & Preis – unser Anbetungs- und Gebetsabend im Lobpreishaus. \nImmer am 1. Dienstag des Monats im Livestream. \nHier gelangst du zum Livestream: \nZum Live-Stream
URL:https://lobpreishaus.org/veranstaltung-3/lobpreis-und-gebetsabend-nur-livestream/2023-11-07/
LOCATION:Lobpreishaus Dresden\, Altreick 21\, Dresden\, Sachsen\, 01237\, Deutschland
CATEGORIES:Livestream,Wöchentlich
ATTACH;FMTTYPE=image/png:https://lobpreishaus.org/wp-content/uploads/2020/03/Website-Slideshow.png
ORGANIZER;CN="Lobpreishaus Dresden e.V.":MAILTO:kontakt@lobpreishaus.org
END:VEVENT
BEGIN:VEVENT
DTSTART;TZID=Europe/Berlin:20231031T193000
DTEND;TZID=Europe/Berlin:20231031T213000
DTSTAMP:20260421T102447
CREATED:20201016T125215Z
LAST-MODIFIED:20230913T090815Z
UID:10000024-1698780600-1698787800@lobpreishaus.org
SUMMARY:Lobpreis- und Gebetsabend
DESCRIPTION:An jedem Dienstagabend gibt’s Lob & Preis – unser Anbetungs- und Gebetsabend im Lobpreishaus. \nImmer am 1. Dienstag des Monats im Livestream. \nHier gelangst du zum Livestream: \nZum Live-Stream
URL:https://lobpreishaus.org/veranstaltung-3/lobpreis-und-gebetsabend-nur-livestream/2023-10-31/
LOCATION:Lobpreishaus Dresden\, Altreick 21\, Dresden\, Sachsen\, 01237\, Deutschland
CATEGORIES:Livestream,Wöchentlich
ATTACH;FMTTYPE=image/png:https://lobpreishaus.org/wp-content/uploads/2020/03/Website-Slideshow.png
ORGANIZER;CN="Lobpreishaus Dresden e.V.":MAILTO:kontakt@lobpreishaus.org
END:VEVENT
BEGIN:VEVENT
DTSTART;TZID=Europe/Berlin:20231024T193000
DTEND;TZID=Europe/Berlin:20231024T213000
DTSTAMP:20260421T102447
CREATED:20201016T125215Z
LAST-MODIFIED:20230913T090815Z
UID:10000023-1698175800-1698183000@lobpreishaus.org
SUMMARY:Lobpreis- und Gebetsabend
DESCRIPTION:An jedem Dienstagabend gibt’s Lob & Preis – unser Anbetungs- und Gebetsabend im Lobpreishaus. \nImmer am 1. Dienstag des Monats im Livestream. \nHier gelangst du zum Livestream: \nZum Live-Stream
URL:https://lobpreishaus.org/veranstaltung-3/lobpreis-und-gebetsabend-nur-livestream/2023-10-24/
LOCATION:Lobpreishaus Dresden\, Altreick 21\, Dresden\, Sachsen\, 01237\, Deutschland
CATEGORIES:Livestream,Wöchentlich
ATTACH;FMTTYPE=image/png:https://lobpreishaus.org/wp-content/uploads/2020/03/Website-Slideshow.png
ORGANIZER;CN="Lobpreishaus Dresden e.V.":MAILTO:kontakt@lobpreishaus.org
END:VEVENT
BEGIN:VEVENT
DTSTART;TZID=Europe/Berlin:20231017T193000
DTEND;TZID=Europe/Berlin:20231017T213000
DTSTAMP:20260421T102447
CREATED:20201016T125215Z
LAST-MODIFIED:20230913T090815Z
UID:10000022-1697571000-1697578200@lobpreishaus.org
SUMMARY:Lobpreis- und Gebetsabend
DESCRIPTION:An jedem Dienstagabend gibt’s Lob & Preis – unser Anbetungs- und Gebetsabend im Lobpreishaus. \nImmer am 1. Dienstag des Monats im Livestream. \nHier gelangst du zum Livestream: \nZum Live-Stream
URL:https://lobpreishaus.org/veranstaltung-3/lobpreis-und-gebetsabend-nur-livestream/2023-10-17/
LOCATION:Lobpreishaus Dresden\, Altreick 21\, Dresden\, Sachsen\, 01237\, Deutschland
CATEGORIES:Livestream,Wöchentlich
ATTACH;FMTTYPE=image/png:https://lobpreishaus.org/wp-content/uploads/2020/03/Website-Slideshow.png
ORGANIZER;CN="Lobpreishaus Dresden e.V.":MAILTO:kontakt@lobpreishaus.org
END:VEVENT
BEGIN:VEVENT
DTSTART;TZID=Europe/Berlin:20231010T193000
DTEND;TZID=Europe/Berlin:20231010T213000
DTSTAMP:20260421T102447
CREATED:20201016T125215Z
LAST-MODIFIED:20230913T090815Z
UID:10000021-1696966200-1696973400@lobpreishaus.org
SUMMARY:Lobpreis- und Gebetsabend
DESCRIPTION:An jedem Dienstagabend gibt’s Lob & Preis – unser Anbetungs- und Gebetsabend im Lobpreishaus. \nImmer am 1. Dienstag des Monats im Livestream. \nHier gelangst du zum Livestream: \nZum Live-Stream
URL:https://lobpreishaus.org/veranstaltung-3/lobpreis-und-gebetsabend-nur-livestream/2023-10-10/
LOCATION:Lobpreishaus Dresden\, Altreick 21\, Dresden\, Sachsen\, 01237\, Deutschland
CATEGORIES:Livestream,Wöchentlich
ATTACH;FMTTYPE=image/png:https://lobpreishaus.org/wp-content/uploads/2020/03/Website-Slideshow.png
ORGANIZER;CN="Lobpreishaus Dresden e.V.":MAILTO:kontakt@lobpreishaus.org
END:VEVENT
BEGIN:VEVENT
DTSTART;TZID=Europe/Berlin:20231003T193000
DTEND;TZID=Europe/Berlin:20231003T213000
DTSTAMP:20260421T102447
CREATED:20201016T125215Z
LAST-MODIFIED:20230913T090815Z
UID:10000020-1696361400-1696368600@lobpreishaus.org
SUMMARY:Lobpreis- und Gebetsabend
DESCRIPTION:An jedem Dienstagabend gibt’s Lob & Preis – unser Anbetungs- und Gebetsabend im Lobpreishaus. \nImmer am 1. Dienstag des Monats im Livestream. \nHier gelangst du zum Livestream: \nZum Live-Stream
URL:https://lobpreishaus.org/veranstaltung-3/lobpreis-und-gebetsabend-nur-livestream/2023-10-03/
LOCATION:Lobpreishaus Dresden\, Altreick 21\, Dresden\, Sachsen\, 01237\, Deutschland
CATEGORIES:Livestream,Wöchentlich
ATTACH;FMTTYPE=image/png:https://lobpreishaus.org/wp-content/uploads/2020/03/Website-Slideshow.png
ORGANIZER;CN="Lobpreishaus Dresden e.V.":MAILTO:kontakt@lobpreishaus.org
END:VEVENT
BEGIN:VEVENT
DTSTART;TZID=Europe/Berlin:20230926T193000
DTEND;TZID=Europe/Berlin:20230926T213000
DTSTAMP:20260421T102447
CREATED:20201016T125215Z
LAST-MODIFIED:20230913T090815Z
UID:10000019-1695756600-1695763800@lobpreishaus.org
SUMMARY:Lobpreis- und Gebetsabend
DESCRIPTION:An jedem Dienstagabend gibt’s Lob & Preis – unser Anbetungs- und Gebetsabend im Lobpreishaus. \nImmer am 1. Dienstag des Monats im Livestream. \nHier gelangst du zum Livestream: \nZum Live-Stream
URL:https://lobpreishaus.org/veranstaltung-3/lobpreis-und-gebetsabend-nur-livestream/2023-09-26/
LOCATION:Lobpreishaus Dresden\, Altreick 21\, Dresden\, Sachsen\, 01237\, Deutschland
CATEGORIES:Livestream,Wöchentlich
ATTACH;FMTTYPE=image/png:https://lobpreishaus.org/wp-content/uploads/2020/03/Website-Slideshow.png
ORGANIZER;CN="Lobpreishaus Dresden e.V.":MAILTO:kontakt@lobpreishaus.org
END:VEVENT
BEGIN:VEVENT
DTSTART;TZID=Europe/Berlin:20230919T193000
DTEND;TZID=Europe/Berlin:20230919T213000
DTSTAMP:20260421T102447
CREATED:20201016T125215Z
LAST-MODIFIED:20230913T090815Z
UID:10000018-1695151800-1695159000@lobpreishaus.org
SUMMARY:Lobpreis- und Gebetsabend
DESCRIPTION:An jedem Dienstagabend gibt’s Lob & Preis – unser Anbetungs- und Gebetsabend im Lobpreishaus. \nImmer am 1. Dienstag des Monats im Livestream. \nHier gelangst du zum Livestream: \nZum Live-Stream
URL:https://lobpreishaus.org/veranstaltung-3/lobpreis-und-gebetsabend-nur-livestream/2023-09-19/
LOCATION:Lobpreishaus Dresden\, Altreick 21\, Dresden\, Sachsen\, 01237\, Deutschland
CATEGORIES:Livestream,Wöchentlich
ATTACH;FMTTYPE=image/png:https://lobpreishaus.org/wp-content/uploads/2020/03/Website-Slideshow.png
ORGANIZER;CN="Lobpreishaus Dresden e.V.":MAILTO:kontakt@lobpreishaus.org
END:VEVENT
BEGIN:VEVENT
DTSTART;TZID=Europe/Berlin:20230912T193000
DTEND;TZID=Europe/Berlin:20230912T213000
DTSTAMP:20260421T102447
CREATED:20201016T125215Z
LAST-MODIFIED:20230913T090815Z
UID:10000017-1694547000-1694554200@lobpreishaus.org
SUMMARY:Lobpreis- und Gebetsabend
DESCRIPTION:An jedem Dienstagabend gibt’s Lob & Preis – unser Anbetungs- und Gebetsabend im Lobpreishaus. \nImmer am 1. Dienstag des Monats im Livestream. \nHier gelangst du zum Livestream: \nZum Live-Stream
URL:https://lobpreishaus.org/veranstaltung-3/lobpreis-und-gebetsabend-nur-livestream/2023-09-12/
LOCATION:Lobpreishaus Dresden\, Altreick 21\, Dresden\, Sachsen\, 01237\, Deutschland
CATEGORIES:Livestream,Wöchentlich
ATTACH;FMTTYPE=image/png:https://lobpreishaus.org/wp-content/uploads/2020/03/Website-Slideshow.png
ORGANIZER;CN="Lobpreishaus Dresden e.V.":MAILTO:kontakt@lobpreishaus.org
END:VEVENT
BEGIN:VEVENT
DTSTART;TZID=Europe/Berlin:20230409T190000
DTEND;TZID=Europe/Berlin:20230409T210000
DTSTAMP:20260421T102447
CREATED:20230404T071439Z
LAST-MODIFIED:20230404T071439Z
UID:10000001-1681066800-1681074000@lobpreishaus.org
SUMMARY:ERlebt Auferstehung feiern!
DESCRIPTION:
URL:https://lobpreishaus.org/veranstaltung-3/erlebt-auferstehung-feiern/
LOCATION:Lobpreishaus Dresden\, Altreick 21\, Dresden\, Sachsen\, 01237\, Deutschland
ATTACH;FMTTYPE=image/jpeg:https://lobpreishaus.org/wp-content/uploads/2023/04/photo1680004831.jpeg
ORGANIZER;CN="Lobpreishaus Dresden e.V.":MAILTO:kontakt@lobpreishaus.org
END:VEVENT
BEGIN:VEVENT
DTSTART;TZID=Europe/Berlin:20221115T193000
DTEND;TZID=Europe/Berlin:20221116T193000
DTSTAMP:20260421T102447
CREATED:20221115T121930Z
LAST-MODIFIED:20221115T122028Z
UID:10000013-1668540600-1668627000@lobpreishaus.org
SUMMARY:Buß- und Bettag 2022
DESCRIPTION:In Sachsen haben wir das Privileg\, einen ausgewählten Tag im Jahr frei zu haben\, um Gott zu suchen! Wie begehst du den Buß- und Bettag 2022?\nWir ermutigen dich Raum zum Beten und Buße tun zu schaffen. Ob das bei dir zu Hause\, in der Natur\, allein oder in Gemeinschaft stattfindet – nimm dir Zeit\, um Gott zu suchen!\nGott ist dir nicht fern – aber wie oft wird Er vom Trubel unseres Alltags und all der Ablenkung übertönt. Auch die Bibel fordert uns auf\, Zeit zu schaffen\, um Gott zu suchen: \nSo richtet nun euer Herz und euren Sinn darauf\, den HERRN\, euren Gott\, zu suchen.\n1. Chr 22\,19a \nMit allem\, was Gott tat\, wollte er die Menschen dazu bringen\, nach ihm zu suchen; er wollte\, dass sie in Kontakt mit ihm kommen und ihn finden. Er ist ja für keinen von uns in unerreichbarer Ferne.\nApg 17\,27 \nNutze den Buß- und Bettag!\nWenn du dafür noch einen geeigneten Ort suchst\, können wir dir vielleicht weiterhelfen:\nAm 15. und 16. November hast du folgende Möglichkeiten bei uns im Lobpreishaus:\n1. Gemeinsamer Start am Dienstag\, den 15.11. um 19:30 Uhr im Lobpreis Studio: Wir wollen gemeinsam anbeten und unsere Augen auf Gott richten. Bis 24 Uhr wird es im Studio Lobpreis geben\, komm gern vorbei!\n2. Mittwoch Nacht 0 Uhr – 8 Uhr: in unserem Gebetsraum wird stündlich angebetet\, komm gern dazu und suche Gott.\n3. Mittwoch tagsüber 8 – 19:30 Uhr: Lobpreis\, Gebet und Anbetung im Lobpreis Studio. \nGenauere Informationen findest du in unserem Gebetskalender.\nWir freuen uns auf diesen besonderen FEIERtag.
URL:https://lobpreishaus.org/veranstaltung-3/buss-und-bettag-2022/
LOCATION:Lobpreishaus Dresden\, Altreick 21\, Dresden\, Sachsen\, 01237\, Deutschland
CATEGORIES:Special Lobpreisveranstaltung
ATTACH;FMTTYPE=image/png:https://lobpreishaus.org/wp-content/uploads/2022/11/Bildschirm­foto-2022-11-15-um-13.17.50.png
ORGANIZER;CN="Lobpreishaus Dresden e.V.":MAILTO:kontakt@lobpreishaus.org
END:VEVENT
BEGIN:VEVENT
DTSTART;TZID=Europe/Berlin:20220810T080000
DTEND;TZID=Europe/Berlin:20220814T220000
DTSTAMP:20260421T102447
CREATED:20220716T212018Z
LAST-MODIFIED:20220808T093551Z
UID:10000110-1660118400-1660514400@lobpreishaus.org
SUMMARY:Lobpreishaustour 2022
DESCRIPTION:Unter dem Motto: „Bete für deine Stadt“ wollen wir auch dieses Jahr wieder alle herzlich dazu einladen Gott mit uns zu Loben und für unsere Städte im Gebet einzustehen. \n10.08. – Annaberg-Buchholz – Marktplatz 16:00 Uhr \n11.08. – Zwickau – Gebetshaus/CVJM Haus 20:00 Uhr \n12.08. – Leipzig – Musikpavillon Clara-Zetkin-Park 18:00 Uhr \n13.08. – Herrnhut – Zinzendorfplatz 15:00 Uhr \n13.08. – Herrnhut – Jesus Haus 20:00 Uhr \n14.08. – Doberlug-Kirchhain – Wiese neben dem Parkplatz beim Eiscafé\, Höhe Hauptstraße 55 15:00 Uhr
URL:https://lobpreishaus.org/veranstaltung-3/lobpreistour/
LOCATION:Lobpreishaus Dresden\, Altreick 21\, Dresden\, Sachsen\, 01237\, Deutschland
ATTACH;FMTTYPE=image/jpeg:https://lobpreishaus.org/wp-content/uploads/2022/07/Lobpreishaus-Tour-2022-1.jpg
ORGANIZER;CN="Lobpreishaus Dresden e.V.":MAILTO:kontakt@lobpreishaus.org
END:VEVENT
END:VCALENDAR