BEGIN:VCALENDAR
VERSION:2.0
PRODID:-//Lobpreishaus Dresden - ECPv6.5.1.4//NONSGML v1.0//EN
CALSCALE:GREGORIAN
METHOD:PUBLISH
X-WR-CALNAME:Lobpreishaus Dresden
X-ORIGINAL-URL:https://lobpreishaus.org
X-WR-CALDESC:Veranstaltungen für Lobpreishaus Dresden
REFRESH-INTERVAL;VALUE=DURATION:PT1H
X-Robots-Tag:noindex
X-PUBLISHED-TTL:PT1H
BEGIN:VTIMEZONE
TZID:Europe/Berlin
BEGIN:DAYLIGHT
TZOFFSETFROM:+0100
TZOFFSETTO:+0200
TZNAME:CEST
DTSTART:20200329T010000
END:DAYLIGHT
BEGIN:STANDARD
TZOFFSETFROM:+0200
TZOFFSETTO:+0100
TZNAME:CET
DTSTART:20201025T010000
END:STANDARD
BEGIN:DAYLIGHT
TZOFFSETFROM:+0100
TZOFFSETTO:+0200
TZNAME:CEST
DTSTART:20210328T010000
END:DAYLIGHT
BEGIN:STANDARD
TZOFFSETFROM:+0200
TZOFFSETTO:+0100
TZNAME:CET
DTSTART:20211031T010000
END:STANDARD
END:VTIMEZONE
BEGIN:VEVENT
DTSTART;TZID=Europe/Berlin:20201231T180000
DTEND;TZID=Europe/Berlin:20201231T190000
DTSTAMP:20260425T144731
CREATED:20201222T141323Z
LAST-MODIFIED:20201222T141533Z
UID:10000087-1609437600-1609441200@lobpreishaus.org
SUMMARY:Kids Worship ? Silvester Party ?Livestream
DESCRIPTION:Der Silvesterabend zieht sich und du weißt nicht wohin mit deiner Energie? \nWie wäre es mit einer Runde Kids-Worship mit Bewegungen zum Tanzen und Toben? ? ? ? ? \nIm Rahmen der internationalen 24h-LobPreisBrücke gibt‘s von uns eine Stunde lang Kids-Lobpreis pur. \nWann? (31.12.) 18-19 Uhr ⏰  \n \nLivestream
URL:https://lobpreishaus.org/veranstaltung-3/kids-worship-%f0%9f%8e%89-silvester-party-%f0%9f%8e%88/
LOCATION:Lobpreishaus Dresden\, Altreick 21\, Dresden\, Sachsen\, 01237\, Deutschland
CATEGORIES:Special Lobpreisveranstaltung
ATTACH;FMTTYPE=image/jpeg:https://lobpreishaus.org/wp-content/uploads/2020/12/812E352F-A9A0-4540-B680-0FD6BD16CFDF.jpeg
ORGANIZER;CN="Lobpreishaus Dresden e.V.":MAILTO:kontakt@lobpreishaus.org
END:VEVENT
BEGIN:VEVENT
DTSTART;TZID=Europe/Berlin:20201231T120000
DTEND;TZID=Europe/Berlin:20210101T130000
DTSTAMP:20260425T144731
CREATED:20201222T132618Z
LAST-MODIFIED:20201223T122409Z
UID:10000086-1609416000-1609506000@lobpreishaus.org
SUMMARY:Silvester: 24h Gebet ?? LobPreisBrücke ?? ?? ??
DESCRIPTION:Gebetsbrücke zwischen Deutschland und Großbritannien\n24h Lobpreis vom 31. Dezember 2020 bis 1. Januar 2021 \nNimm teil an einem 24h Online Lobpreis zum Jahreswechsel! \nZum LivestreamWie das geht:\nDu kannst Dich allein oder mit anderen gemeinsam über einen YouTube Livestream anschließen. \nOder du bist mit deiner Lobpreisgruppe\, deiner Gemeinde oder deinem Hauskreis für eine Stunde im Lobpreis parallel vor Ort Teil der Lobpreisbrücke. \nWenn Du an Deinem Ort teilnehmen möchtest\, dann melde Dich bitte hier für ein Zeitfenster an und viel Freude beim Lobpreis von dort\, wo Du bist. Anbetungsteams und Gemeinden aus anderen Nationen sind ebenfalls herzlich willkommen. Ein Team aus Frankreich wird eine Stunde Anbetung leiten. \nLobpreis und Gebet werden vom Mittag des 31. Dezember 2020 bis zum Mittag des 1. Januar 2021 stattfinden. Der Lobpreis wird abwechselnd von deutschen und britischen Anbetern geleitet. \nDeutsche Zeit: 12.00 Uhr am 31.12.2020 bis 13.00 Uhr am 01.01.21 MEZ \nBritische Zeit:  11.00 Uhr am 31.12.2020 bis 12.00 Uhr am 01.01.21 GMT \n \nGemeinsam mit vielen Christen aus Deutschland und UK werden wir im Lobpreis zum Ausdruck bringen\, dass unsere beiden Länder weiterhin im Geist zusammenstehen\, um unserem Kontinent gemeinsam zu dienen und nicht getrennte Wege zu gehen. \nZu den Teilnehmern aus Deutschland gehören: Albert Frey (einer der Väter der Anbetung in Deutschland); Christiane Hammer\, Gebetshaus Augsburg; Lisa Gruber\, Gebetshaus Freiburg; Bastian Rauschmeier\, Soul Devotion; Detlef Garbers\, Deutsche Evangelische Allianz; Daniel Wendt\, Lobpreishaus Dresden; Bernd Oettinghaus; David Eversmann; Debbie Wright\, BURN Europe; Thomas Enns\, (Könige und Priester). \nZu den Teilnehmern aus Großbritannien gehören: Michael und Becci Ball\, Manchester Houses of Prayer; Dave Bilbrough; Sarah Clarke Burn 24/7 South London; Lucy Bunce; Duncan Cullins\, Navigators;  Nigel und Julie Cameron\, Sounds of Wonder; Paul Critchley\, Presence Worship; Rachel Dixon\, Beacon House of Prayer; Alun Leppitt\, The Stirring; Danny Oates; Rob Parker\, Wings Prayer House; Andy Rogers.
URL:https://lobpreishaus.org/veranstaltung-3/silvester-24h-gebet-bridge-of-worship/
LOCATION:Lobpreishaus Dresden\, Altreick 21\, Dresden\, Sachsen\, 01237\, Deutschland
CATEGORIES:Special Lobpreisveranstaltung
ATTACH;FMTTYPE=image/jpeg:https://lobpreishaus.org/wp-content/uploads/2020/12/Silvester2020-veranstaltung.jpg
ORGANIZER;CN="Lobpreishaus Dresden e.V.":MAILTO:kontakt@lobpreishaus.org
END:VEVENT
BEGIN:VEVENT
DTSTART;TZID=Europe/Berlin:20201229T200000
DTEND;TZID=Europe/Berlin:20201229T220000
DTSTAMP:20260425T144731
CREATED:20201222T124004Z
LAST-MODIFIED:20201222T125649Z
UID:10000085-1609272000-1609279200@lobpreishaus.org
SUMMARY:Christmas Classic Concert ? – Livestream
DESCRIPTION:Dieser Dienstagabend wird feierlich. Das Sächsische Klassik-Quartett um den virtuosen Cellisten Christoph Uschner wird uns einen besonderen LOB & PREIS-Dienstagabend bescheren. \nGleichzeitig werden wir an diesem Abend für die Musiker Spenden sammeln\, da Sie von der aktuellen Situation besonders betroffen sind. \nSchalte dich live mit rein und genieße feinste weihnachtliche Streichermusik von J.S. Bach bis „Oh du fröhliche“. Es wird ein musikalischer Ohrenschmaus! \nDie Veranstaltung findet als Livestream statt\, ein Besuch vor Ort ist aktuell nicht möglich. \nLivestream
URL:https://lobpreishaus.org/veranstaltung-3/christmas-classic-concert/
LOCATION:Lobpreishaus Dresden\, Altreick 21\, Dresden\, Sachsen\, 01237\, Deutschland
CATEGORIES:Special Lobpreisveranstaltung
ATTACH;FMTTYPE=image/jpeg:https://lobpreishaus.org/wp-content/uploads/2020/12/8366C18E-F9DE-4E56-BA66-19BDF5AF883C-scaled.jpeg
ORGANIZER;CN="Lobpreishaus Dresden e.V.":MAILTO:kontakt@lobpreishaus.org
END:VEVENT
BEGIN:VEVENT
DTSTART;TZID=Europe/Berlin:20201204T190000
DTEND;TZID=Europe/Berlin:20201204T210000
DTSTAMP:20260425T144731
CREATED:20200619T105935Z
LAST-MODIFIED:20201203T143552Z
UID:10000003-1607108400-1607115600@lobpreishaus.org
SUMMARY:LobPreisBotschaft mit Pfarrer Christfried Wendt: LIVESTREAM
DESCRIPTION:Pfarrer Christfried Wendt (der Vater von Daniel und Nathanael) wird uns einen spannenden & unterhaltsamen Vortrag zu folgendem Thema aus der Bibel halten: \nIsrael und die Gemeinde Jesu \nHerzliche Einladung dazu! Gerne kannst du im Livestream dabei sein: \nLivestream
URL:https://lobpreishaus.org/veranstaltung-3/lobpreisbotschaft-prophetie/
LOCATION:Lobpreishaus Dresden\, Altreick 21\, Dresden\, Sachsen\, 01237\, Deutschland
CATEGORIES:Seminar
ATTACH;FMTTYPE=image/jpeg:https://lobpreishaus.org/wp-content/uploads/2020/12/LPH-CW-Seminar-51220.jpg
ORGANIZER;CN="Lobpreishaus Dresden e.V.":MAILTO:kontakt@lobpreishaus.org
END:VEVENT
BEGIN:VEVENT
DTSTART;TZID=Europe/Berlin:20201027T200000
DTEND;TZID=Europe/Berlin:20201027T220000
DTSTAMP:20260425T144731
CREATED:20201016T125215Z
LAST-MODIFIED:20201024T105239Z
UID:10000016-1603828800-1603836000@lobpreishaus.org
SUMMARY:Lobpreis- und Gebetsabend: NUR LIVESTREAM
DESCRIPTION:Jeden Dienstagabend gibt’s Lob & Preis – unser Gebetsabend aus dem Lobpreishaus. Aktuell nur per Livestream\, da es nicht möglich ist die aktuellen Hygieneregeln beim Singen und Musizieren gemäß der aktuellen Allgemeinverordnung vom Freistaat Sachsen umzusetzen. Es ist daher leider zur Zeit nicht möglich vor Ort dabei zu sein. \nHier gelangst du zum Livestream: \nZum Live-Stream
URL:https://lobpreishaus.org/veranstaltung-3/lobpreis-und-gebetsabend-nur-livestream-2020-10-27/
LOCATION:Lobpreishaus Dresden\, Altreick 21\, Dresden\, Sachsen\, 01237\, Deutschland
CATEGORIES:Wöchentlich
ATTACH;FMTTYPE=image/jpeg:https://lobpreishaus.org/wp-content/uploads/2020/03/Lobpreisabend-Live-Stream.jpg
ORGANIZER;CN="Lobpreishaus Dresden e.V.":MAILTO:kontakt@lobpreishaus.org
END:VEVENT
BEGIN:VEVENT
DTSTART;TZID=Europe/Berlin:20201016T160000
DTEND;TZID=Europe/Berlin:20201016T170000
DTSTAMP:20260425T144731
CREATED:20200626T063019Z
LAST-MODIFIED:20200929T091455Z
UID:10000073-1602864000-1602867600@lobpreishaus.org
SUMMARY:LobPreisCafé - Lerne uns kennen!
DESCRIPTION:Jeden Freitagnachmittag öffnen wir um 16 Uhr unser Hoftor um Gemeinschaft mit allen Lobpreishäuslern und Gästen zu haben. Eine super Gelegenheit uns kennenzulernen! Für leckeren Kaffee und selbstgebackenen Kuchen sorgen wir. \nACHTUNG – Covid19-Hygieneregeln: \n\nBitte komme nur vorbei\, wenn du keine Covid19-Symptome hast und auch nicht aus einem aktuellen Risikogebiet kommst.\nWir treffen uns aktuell draußen im LobpreisHof. Bei Regen fällt das Café aus. Informiere dich gerne tagesaktuell in unserer Offiziellen Lobpreishaus Telegram Gruppe.
URL:https://lobpreishaus.org/veranstaltung-3/lobpreiscafe-lerne-uns-kennen-3/2020-10-16/
LOCATION:Lobpreishaus Dresden\, Altreick 21\, Dresden\, Sachsen\, 01237\, Deutschland
CATEGORIES:Wöchentlich
ATTACH;FMTTYPE=image/jpeg:https://lobpreishaus.org/wp-content/uploads/2018/09/C7EE602B-A04E-4478-BBC9-CB364E2EAF65.jpeg
ORGANIZER;CN="Lobpreishaus Dresden e.V.":MAILTO:kontakt@lobpreishaus.org
END:VEVENT
BEGIN:VEVENT
DTSTART;TZID=Europe/Berlin:20201013T200000
DTEND;TZID=Europe/Berlin:20201013T213000
DTSTAMP:20260425T144731
CREATED:20191009T114122Z
LAST-MODIFIED:20200929T102348Z
UID:10000009-1602619200-1602624600@lobpreishaus.org
SUMMARY:Lobpreis- und Gebetsabend: LIVESTREAM & Anmeldung
DESCRIPTION:Jeden Dienstagabend gibt’s Lob & Preis – unser Gebetsabend aus dem Lobpreishaus. Aktuell per Livestream. Besucher empfangen wir mit voriger Anmeldung (über unser Kontaktformular). \nHier geht es zum Live-Stream.
URL:https://lobpreishaus.org/veranstaltung-3/lobpreis-und-gebetsabend-2/2020-10-13/
LOCATION:Lobpreishaus Dresden\, Altreick 21\, Dresden\, Sachsen\, 01237\, Deutschland
CATEGORIES:Wöchentlich
ATTACH;FMTTYPE=image/jpeg:https://lobpreishaus.org/wp-content/uploads/2020/03/Lobpreisabend-Live-Stream.jpg
ORGANIZER;CN="Lobpreishaus Dresden e.V.":MAILTO:kontakt@lobpreishaus.org
END:VEVENT
BEGIN:VEVENT
DTSTART;TZID=Europe/Berlin:20201010T090000
DTEND;TZID=Europe/Berlin:20201010T160000
DTSTAMP:20260425T144731
CREATED:20200619T105935Z
LAST-MODIFIED:20201008T202507Z
UID:10000004-1602320400-1602345600@lobpreishaus.org
SUMMARY:LobPreisSeminar mit Grace Jokela (USA / D)
DESCRIPTION:Warum geht es?\n„Ich bringe Leben – und dies im Überfluss.“ Johannes 10\,10 (HOF)\nWas bedeutet das Leben im Überfluss? Ein erfülltes Leben ? \n„Erfüllung stellt sich ein\, wenn wir entsprechend unseres einzigartigen Designs leben und die Ressourcen\, die Gott in uns gelegt hat\, voll ausschopfen.“ – Chuck Wale\, Erfüllt leben \nIn diesem Workshop werden wir lernen\, wie die Entdeckung unserer spirituellen DNA uns helfen kann\, ein Leben in Fülle und Erfüllung zu leben. Indem wir uns die massgebliche Gaben ansehen\, die Gott in jeden von uns gelegt hat\, werden wir sehen\, wie das spezifische Gabenprofil\, das wir besitzen\, die Linse formt\, durch die wir unser Leben betrachten und leben. Auf der Grundlage von Chuck Wales eingehender Studie „Erfüllt leben“ stammen die Gaben\, die wir betrachten werden\, von Römer 12 – die Gabe der Prophetie\, des Dienens\, des Lehrens\, der Ermutigung\, der Großzügigkeit\, des Leitens und der Barmherzigkeit. \n„Die sieben Gaben in Römer 12 schärfen unsere Sicht für unsere Lebensumstände\, für unsere Mitmenschen\, für uns selbst und für Gott. Diese von Gott geschenkte Geisteshaltung lässt uns das Leben interpretieren\, reagieren\, Entscheidungen treffen\, uns für einen geistlichen Dienst entscheiden\, Freunde geniessen\, einen Partner wählen etc“. – Chuck Wale\, Erfüllt leben \nDie Sprecherin\nGrace Jokela ist seit zwei Jahren Teil des Lobpreishaus Dresden und unterrichtet ‚Business English‘ in Dresden. Bevor sie hierher zog\, verbrachte Grace mehr als 15 Jahre in Voll- und Teilzeit im christlichen Dienst für christliche Organisationen\, beginnend mit vier Jahren bei Jugend mit einer Mission in Norwegen und weitere 13 Jahre bei MorningStar Ministries in SC\, USA und Chester\, England. Auch heute noch verschenkt sie die Liebe Christi durch Gastfreundschaft\, Lehre\, Freundschaft und Ermutigung. Grace wünscht sich\, dass Menschen zu einem Leben in Christus erwachen und mit Zuversicht und Freude in ihrer Bestimmung wandeln. \nAnmeldung (derzeit nicht mehr möglich)\nHier kannst du dich für das Seminar anmelden. Die Anzahl der Plätze ist begrenzt. Der Unkostenbeitrag inkl. Verpflegung beträgt 25\,- EUR (für Mitarbeiter vom Lobpreishaus 10\,- EUR). \nNach der Anmeldung erhältst du eine Bestätigung per E-Mail mit weiteren Informationen. Wir freuen uns auf Dich. \nSolltest du weitere Fragen haben\, erreichst du uns unter: verantaltung@lobpreishaus.org.
URL:https://lobpreishaus.org/veranstaltung-3/lobpreisseminar-mit-grace-jokela-oktober-2020/
LOCATION:Lobpreishaus Dresden\, Altreick 21\, Dresden\, Sachsen\, 01237\, Deutschland
CATEGORIES:Seminar
ATTACH;FMTTYPE=image/jpeg:https://lobpreishaus.org/wp-content/uploads/2020/06/LPH-ID-Workshop_final.jpg
ORGANIZER;CN="Lobpreishaus Dresden e.V.":MAILTO:kontakt@lobpreishaus.org
END:VEVENT
BEGIN:VEVENT
DTSTART;TZID=Europe/Berlin:20201009T160000
DTEND;TZID=Europe/Berlin:20201009T170000
DTSTAMP:20260425T144731
CREATED:20200626T063019Z
LAST-MODIFIED:20200929T091455Z
UID:10000072-1602259200-1602262800@lobpreishaus.org
SUMMARY:LobPreisCafé - Lerne uns kennen!
DESCRIPTION:Jeden Freitagnachmittag öffnen wir um 16 Uhr unser Hoftor um Gemeinschaft mit allen Lobpreishäuslern und Gästen zu haben. Eine super Gelegenheit uns kennenzulernen! Für leckeren Kaffee und selbstgebackenen Kuchen sorgen wir. \nACHTUNG – Covid19-Hygieneregeln: \n\nBitte komme nur vorbei\, wenn du keine Covid19-Symptome hast und auch nicht aus einem aktuellen Risikogebiet kommst.\nWir treffen uns aktuell draußen im LobpreisHof. Bei Regen fällt das Café aus. Informiere dich gerne tagesaktuell in unserer Offiziellen Lobpreishaus Telegram Gruppe.
URL:https://lobpreishaus.org/veranstaltung-3/lobpreiscafe-lerne-uns-kennen-3/2020-10-09/
LOCATION:Lobpreishaus Dresden\, Altreick 21\, Dresden\, Sachsen\, 01237\, Deutschland
CATEGORIES:Wöchentlich
ATTACH;FMTTYPE=image/jpeg:https://lobpreishaus.org/wp-content/uploads/2018/09/C7EE602B-A04E-4478-BBC9-CB364E2EAF65.jpeg
ORGANIZER;CN="Lobpreishaus Dresden e.V.":MAILTO:kontakt@lobpreishaus.org
END:VEVENT
BEGIN:VEVENT
DTSTART;TZID=Europe/Berlin:20201006T200000
DTEND;TZID=Europe/Berlin:20201006T213000
DTSTAMP:20260425T144731
CREATED:20191009T114122Z
LAST-MODIFIED:20200929T102348Z
UID:10000008-1602014400-1602019800@lobpreishaus.org
SUMMARY:Lobpreis- und Gebetsabend: LIVESTREAM & Anmeldung
DESCRIPTION:Jeden Dienstagabend gibt’s Lob & Preis – unser Gebetsabend aus dem Lobpreishaus. Aktuell per Livestream. Besucher empfangen wir mit voriger Anmeldung (über unser Kontaktformular). \nHier geht es zum Live-Stream.
URL:https://lobpreishaus.org/veranstaltung-3/lobpreis-und-gebetsabend-2/2020-10-06/
LOCATION:Lobpreishaus Dresden\, Altreick 21\, Dresden\, Sachsen\, 01237\, Deutschland
CATEGORIES:Wöchentlich
ATTACH;FMTTYPE=image/jpeg:https://lobpreishaus.org/wp-content/uploads/2020/03/Lobpreisabend-Live-Stream.jpg
ORGANIZER;CN="Lobpreishaus Dresden e.V.":MAILTO:kontakt@lobpreishaus.org
END:VEVENT
BEGIN:VEVENT
DTSTART;TZID=Europe/Berlin:20201002T190000
DTEND;TZID=Europe/Berlin:20201002T210000
DTSTAMP:20260425T144731
CREATED:20200619T105935Z
LAST-MODIFIED:20200925T155815Z
UID:10000005-1601665200-1601672400@lobpreishaus.org
SUMMARY:LobPreisBotschaft mit Pfarrer Christfried Wendt
DESCRIPTION:Pfarrer Christfried Wendt (der Vater von Daniel und Nathanael) wird uns einen spannenden & unterhaltsamen Vortrag zu folgendem Thema aus der Bibel halten: \nJESUS: JUDE & SOHN GOTTES \nHerzliche Einladung dazu! Der Vortrag ist kostenfrei. Wir treffen uns in unserem LobpreisCafé. Nach dem Hoftor\, dritte Tür auf der linken Seite. \nAnmeldung\nSolltest du weitere Fragen haben\, erreichst du uns unter: verantaltung@lobpreishaus.org
URL:https://lobpreishaus.org/veranstaltung-3/jesus-jude-und-sohn-gottes/
LOCATION:Lobpreishaus Dresden\, Altreick 21\, Dresden\, Sachsen\, 01237\, Deutschland
CATEGORIES:Seminar
ATTACH;FMTTYPE=image/jpeg:https://lobpreishaus.org/wp-content/uploads/2020/06/LPH-CW-Seminar.jpg
ORGANIZER;CN="Lobpreishaus Dresden e.V.":MAILTO:kontakt@lobpreishaus.org
END:VEVENT
BEGIN:VEVENT
DTSTART;TZID=Europe/Berlin:20201002T160000
DTEND;TZID=Europe/Berlin:20201002T170000
DTSTAMP:20260425T144731
CREATED:20200626T063019Z
LAST-MODIFIED:20200929T091455Z
UID:10000071-1601654400-1601658000@lobpreishaus.org
SUMMARY:LobPreisCafé - Lerne uns kennen!
DESCRIPTION:Jeden Freitagnachmittag öffnen wir um 16 Uhr unser Hoftor um Gemeinschaft mit allen Lobpreishäuslern und Gästen zu haben. Eine super Gelegenheit uns kennenzulernen! Für leckeren Kaffee und selbstgebackenen Kuchen sorgen wir. \nACHTUNG – Covid19-Hygieneregeln: \n\nBitte komme nur vorbei\, wenn du keine Covid19-Symptome hast und auch nicht aus einem aktuellen Risikogebiet kommst.\nWir treffen uns aktuell draußen im LobpreisHof. Bei Regen fällt das Café aus. Informiere dich gerne tagesaktuell in unserer Offiziellen Lobpreishaus Telegram Gruppe.
URL:https://lobpreishaus.org/veranstaltung-3/lobpreiscafe-lerne-uns-kennen-3/2020-10-02/
LOCATION:Lobpreishaus Dresden\, Altreick 21\, Dresden\, Sachsen\, 01237\, Deutschland
CATEGORIES:Wöchentlich
ATTACH;FMTTYPE=image/jpeg:https://lobpreishaus.org/wp-content/uploads/2018/09/C7EE602B-A04E-4478-BBC9-CB364E2EAF65.jpeg
ORGANIZER;CN="Lobpreishaus Dresden e.V.":MAILTO:kontakt@lobpreishaus.org
END:VEVENT
BEGIN:VEVENT
DTSTART;TZID=Europe/Berlin:20200929T200000
DTEND;TZID=Europe/Berlin:20200929T213000
DTSTAMP:20260425T144731
CREATED:20191009T114122Z
LAST-MODIFIED:20200929T102348Z
UID:10000007-1601409600-1601415000@lobpreishaus.org
SUMMARY:Lobpreis- und Gebetsabend: LIVESTREAM & Anmeldung
DESCRIPTION:Jeden Dienstagabend gibt’s Lob & Preis – unser Gebetsabend aus dem Lobpreishaus. Aktuell per Livestream. Besucher empfangen wir mit voriger Anmeldung (über unser Kontaktformular). \nHier geht es zum Live-Stream.
URL:https://lobpreishaus.org/veranstaltung-3/lobpreis-und-gebetsabend-2/2020-09-29/
LOCATION:Lobpreishaus Dresden\, Altreick 21\, Dresden\, Sachsen\, 01237\, Deutschland
CATEGORIES:Wöchentlich
ATTACH;FMTTYPE=image/jpeg:https://lobpreishaus.org/wp-content/uploads/2020/03/Lobpreisabend-Live-Stream.jpg
ORGANIZER;CN="Lobpreishaus Dresden e.V.":MAILTO:kontakt@lobpreishaus.org
END:VEVENT
BEGIN:VEVENT
DTSTART;TZID=Europe/Berlin:20200904T190000
DTEND;TZID=Europe/Berlin:20200904T210000
DTSTAMP:20260425T144731
CREATED:20200619T105935Z
LAST-MODIFIED:20200904T105016Z
UID:10000006-1599246000-1599253200@lobpreishaus.org
SUMMARY:LobPreisBotschaft: Welche Bedeutung hat Israel für uns heute (aus biblischer Sicht)?
DESCRIPTION:Pfarrer Christfried Wendt wird uns eine Bibelarbeit über Israel in der Bibel und seine Bedeutung für uns heute halten. Das wird ein spannender Vortrag! Herzliche Einladung dazu. Der Vortrag ist kostenfrei. Wir treffen uns in unserem LobpreisCafé. Nach dem Hoftor\, dritte Tür auf der linken Seite.
URL:https://lobpreishaus.org/veranstaltung-3/corona-und-die-zeichen-der-endzeit-2/
LOCATION:Lobpreishaus Dresden\, Altreick 21\, Dresden\, Sachsen\, 01237\, Deutschland
CATEGORIES:Seminar
ATTACH;FMTTYPE=image/png:https://lobpreishaus.org/wp-content/uploads/2019/04/logo-lph.png
ORGANIZER;CN="Lobpreishaus Dresden e.V.":MAILTO:kontakt@lobpreishaus.org
END:VEVENT
BEGIN:VEVENT
DTSTART;TZID=Europe/Berlin:20200704T090000
DTEND;TZID=Europe/Berlin:20200704T160000
DTSTAMP:20260425T144731
CREATED:20200619T103642Z
LAST-MODIFIED:20200619T104832Z
UID:10000077-1593853200-1593878400@lobpreishaus.org
SUMMARY:Work & Fun
DESCRIPTION:Um den Bau unseres LobPreisStudios im Sommer abschließen zu können\, benötigen wir Deine tatkräftige Hilfe. Wir treffen uns ab 9 Uhr und arbeiten gemeinsam bis ca. 16 Uhr. Für Mittagessen sorgen wir. Und Spaß in unserer Gemeinschaft gibt’s kostenlos dazu. ??\nBist du dabei? Bitte melde dich über unser Kontaktformular an.\nWir freuen uns auf dich!
URL:https://lobpreishaus.org/veranstaltung-3/work-fun-5/
LOCATION:Lobpreishaus Dresden\, Altreick 21\, Dresden\, Sachsen\, 01237\, Deutschland
CATEGORIES:Seminar
ATTACH;FMTTYPE=image/jpeg:https://lobpreishaus.org/wp-content/uploads/2019/01/EB55D10E-3514-4AB4-9C6F-A898E6673D84.jpeg
ORGANIZER;CN="Lobpreishaus Dresden e.V.":MAILTO:kontakt@lobpreishaus.org
END:VEVENT
END:VCALENDAR