BEGIN:VCALENDAR
VERSION:2.0
PRODID:-//Lobpreishaus Dresden - ECPv6.5.1.4//NONSGML v1.0//EN
CALSCALE:GREGORIAN
METHOD:PUBLISH
X-WR-CALNAME:Lobpreishaus Dresden
X-ORIGINAL-URL:https://lobpreishaus.org
X-WR-CALDESC:Veranstaltungen für Lobpreishaus Dresden
REFRESH-INTERVAL;VALUE=DURATION:PT1H
X-Robots-Tag:noindex
X-PUBLISHED-TTL:PT1H
BEGIN:VTIMEZONE
TZID:Europe/Berlin
BEGIN:DAYLIGHT
TZOFFSETFROM:+0100
TZOFFSETTO:+0200
TZNAME:CEST
DTSTART:20230326T010000
END:DAYLIGHT
BEGIN:STANDARD
TZOFFSETFROM:+0200
TZOFFSETTO:+0100
TZNAME:CET
DTSTART:20231029T010000
END:STANDARD
END:VTIMEZONE
BEGIN:VEVENT
DTSTART;TZID=Europe/Berlin:20231216T160000
DTEND;TZID=Europe/Berlin:20231216T190000
DTSTAMP:20260425T165455
CREATED:20231208T110342Z
LAST-MODIFIED:20231214T154747Z
UID:10000114-1702742400-1702753200@lobpreishaus.org
SUMMARY:Releaseparty
DESCRIPTION:Im Rahmen der Hofweihnacht werden wir den Release von unserem neuen Lied „Mein Gott ist Fülle“ feiern.\nEs gibt eine Askustik-live-performance\, Interviews mit Elli – die das Lied geschrieben hat und mit Matze – der das Musikvideo produziert hat.\nZeit für Gemeinschaft.\nHerzliche Einladung dazu.
URL:https://lobpreishaus.org/veranstaltung-3/releaseparty/
LOCATION:Lobpreishaus Dresden\, Altreick 21\, Dresden\, Sachsen\, 01237\, Deutschland
CATEGORIES:Feier
ATTACH;FMTTYPE=image/jpeg:https://lobpreishaus.org/wp-content/uploads/2023/12/YouTube-TB-Mein-Gott-ist-Fuelle.jpg
ORGANIZER;CN="Lobpreishaus Dresden e.V.":MAILTO:kontakt@lobpreishaus.org
END:VEVENT
END:VCALENDAR